BEGIN:VCALENDAR
VERSION:2.0
PRODID:-//Northern California Engineering Contractors Association - ECPv6.15.17.1//NONSGML v1.0//EN
CALSCALE:GREGORIAN
METHOD:PUBLISH
X-ORIGINAL-URL:https://nceca.org
X-WR-CALDESC:Events for Northern California Engineering Contractors Association
REFRESH-INTERVAL;VALUE=DURATION:PT1H
X-Robots-Tag:noindex
X-PUBLISHED-TTL:PT1H
BEGIN:VTIMEZONE
TZID:America/Los_Angeles
BEGIN:DAYLIGHT
TZOFFSETFROM:-0800
TZOFFSETTO:-0700
TZNAME:PDT
DTSTART:20240310T100000
END:DAYLIGHT
BEGIN:STANDARD
TZOFFSETFROM:-0700
TZOFFSETTO:-0800
TZNAME:PST
DTSTART:20241103T090000
END:STANDARD
BEGIN:DAYLIGHT
TZOFFSETFROM:-0800
TZOFFSETTO:-0700
TZNAME:PDT
DTSTART:20250309T100000
END:DAYLIGHT
BEGIN:STANDARD
TZOFFSETFROM:-0700
TZOFFSETTO:-0800
TZNAME:PST
DTSTART:20251102T090000
END:STANDARD
BEGIN:DAYLIGHT
TZOFFSETFROM:-0800
TZOFFSETTO:-0700
TZNAME:PDT
DTSTART:20260308T100000
END:DAYLIGHT
BEGIN:STANDARD
TZOFFSETFROM:-0700
TZOFFSETTO:-0800
TZNAME:PST
DTSTART:20261101T090000
END:STANDARD
END:VTIMEZONE
BEGIN:VEVENT
DTSTART;TZID=America/Los_Angeles:20250615T090000
DTEND;TZID=America/Los_Angeles:20250615T153000
DTSTAMP:20260425T162049
CREATED:20241203T060705Z
LAST-MODIFIED:20250615T233903Z
UID:6455-1749978000-1750001400@nceca.org
SUMMARY:Father's Day "Show & Shine" Car Show
DESCRIPTION:Sold out! \nThank you to our Sponsors: \nThank you to our Sponsors: \nPlatinum Chevrolet—Showcase Sponsor\nNorth Bay Petroleum A Reladyne Company  – Awards Sponsor\nRoblar Quarry LLC—Awards Sponsor\nEngelke Construction—DJ Sponsor\nRCX Inc—Raffle Sponsor\nGhilotti Construction—Donation\nGhilotti Bros. Inc.\, – Donation\nHerc Rentals Trench Solutions—Donation \n  \n  \n 
URL:https://nceca.org/event/fathers-day-show-shine-car-show/
LOCATION:Juilliard Park\, 227 Santa Rosa Ave.\, Santa Rosa\, CA\, 95404\, United States
CATEGORIES:Events
END:VEVENT
END:VCALENDAR