BEGIN:VCALENDAR
VERSION:2.0
PRODID:-//Northern California Engineering Contractors Association - ECPv6.15.17.1//NONSGML v1.0//EN
CALSCALE:GREGORIAN
METHOD:PUBLISH
X-WR-CALNAME:Northern California Engineering Contractors Association
X-ORIGINAL-URL:https://nceca.org
X-WR-CALDESC:Events for Northern California Engineering Contractors Association
REFRESH-INTERVAL;VALUE=DURATION:PT1H
X-Robots-Tag:noindex
X-PUBLISHED-TTL:PT1H
BEGIN:VTIMEZONE
TZID:America/Los_Angeles
BEGIN:DAYLIGHT
TZOFFSETFROM:-0800
TZOFFSETTO:-0700
TZNAME:PDT
DTSTART:20240310T100000
END:DAYLIGHT
BEGIN:STANDARD
TZOFFSETFROM:-0700
TZOFFSETTO:-0800
TZNAME:PST
DTSTART:20241103T090000
END:STANDARD
BEGIN:DAYLIGHT
TZOFFSETFROM:-0800
TZOFFSETTO:-0700
TZNAME:PDT
DTSTART:20250309T100000
END:DAYLIGHT
BEGIN:STANDARD
TZOFFSETFROM:-0700
TZOFFSETTO:-0800
TZNAME:PST
DTSTART:20251102T090000
END:STANDARD
BEGIN:DAYLIGHT
TZOFFSETFROM:-0800
TZOFFSETTO:-0700
TZNAME:PDT
DTSTART:20260308T100000
END:DAYLIGHT
BEGIN:STANDARD
TZOFFSETFROM:-0700
TZOFFSETTO:-0800
TZNAME:PST
DTSTART:20261101T090000
END:STANDARD
END:VTIMEZONE
BEGIN:VEVENT
DTSTART;TZID=America/Los_Angeles:20250711T060000
DTEND;TZID=America/Los_Angeles:20250711T110000
DTSTAMP:20260425T125848
CREATED:20241203T060844Z
LAST-MODIFIED:20250702T235329Z
UID:6457-1752213600-1752231600@nceca.org
SUMMARY:ECA Golf Tournament
DESCRIPTION:SOLD OUT! \nClick HERE for Sponsor flyer \nThank you to our Sponsors! \n  \nThank you to our Sponsors: \nArgonaut Constructors—Showcase Sponsor \nRoblar Quarry\, LLC—Showcase Sponsor \nSorren—Lunch Sponsor\, Hospitality Hole & Beverage Cart Sponsor \nGhilotti Construction—Reception Sponsor \nKadon Trucking—Gold Sponsor & Tee Sponsor  \nToby’s Trucking—Beverage Cart Sponsor \nPeterson CAT—Trophy Sponsor \nPACE Supply—Golf Ball Sponsor \nAaction Rents—Putting Sponsor \nBC Engineering Group—Beer Cooler & Tee Sponsor \nDevincenzi Concrete Construction—Golf Cart Sponsor \nExchange Bank—Golf Cart Sponsor \nHerc Rentals Trench Solutions—Raffle Sponsor \nRCX\, Inc—Cigar Sponsor \nRisk Strategies—Cigar Sponsor & Fountaingrove Foursome \nUnited Rentals Trench Safety—Driving Range Sponsor \nEnterprise Mobility—Promotional Hole sponsor \nGeorge Petersen Insurance Agency—Hospitality Hole Sponsor \nPeterson Trucks—Hospitality Hole Sponsor \nRitchie Bros—Hospitality Hole Sponsor \nSmith Dollar PC—Hospitality Hole Sponsor \nSoiland Co.—Hospitality Hole Sponsor \nSound Ideas—Photography and Birdie Beer! \nJim Person\, Safety Pride – Hospitality Hole Sponsor \nRDO Equipment—Tee Sponsor \nCresco Equipment Rentals—Cart donation \n 
URL:https://nceca.org/event/eca-golf-tournament-2/
LOCATION:Windsor Golf Club\, 1340 19th Hole\, Windsor\, CA\, 95492\, United States
CATEGORIES:Events
END:VEVENT
END:VCALENDAR