BEGIN:VCALENDAR
VERSION:2.0
PRODID:-//Northern California Engineering Contractors Association - ECPv6.15.17.1//NONSGML v1.0//EN
CALSCALE:GREGORIAN
METHOD:PUBLISH
X-ORIGINAL-URL:https://nceca.org
X-WR-CALDESC:Events for Northern California Engineering Contractors Association
REFRESH-INTERVAL;VALUE=DURATION:PT1H
X-Robots-Tag:noindex
X-PUBLISHED-TTL:PT1H
BEGIN:VTIMEZONE
TZID:America/Los_Angeles
BEGIN:DAYLIGHT
TZOFFSETFROM:-0800
TZOFFSETTO:-0700
TZNAME:PDT
DTSTART:20240310T100000
END:DAYLIGHT
BEGIN:STANDARD
TZOFFSETFROM:-0700
TZOFFSETTO:-0800
TZNAME:PST
DTSTART:20241103T090000
END:STANDARD
BEGIN:DAYLIGHT
TZOFFSETFROM:-0800
TZOFFSETTO:-0700
TZNAME:PDT
DTSTART:20250309T100000
END:DAYLIGHT
BEGIN:STANDARD
TZOFFSETFROM:-0700
TZOFFSETTO:-0800
TZNAME:PST
DTSTART:20251102T090000
END:STANDARD
BEGIN:DAYLIGHT
TZOFFSETFROM:-0800
TZOFFSETTO:-0700
TZNAME:PDT
DTSTART:20260308T100000
END:DAYLIGHT
BEGIN:STANDARD
TZOFFSETFROM:-0700
TZOFFSETTO:-0800
TZNAME:PST
DTSTART:20261101T090000
END:STANDARD
END:VTIMEZONE
BEGIN:VEVENT
DTSTART;TZID=America/Los_Angeles:20250829T120000
DTEND;TZID=America/Los_Angeles:20250829T140000
DTSTAMP:20260425T112123
CREATED:20250708T021500Z
LAST-MODIFIED:20250829T173536Z
UID:6942-1756468800-1756476000@nceca.org
SUMMARY:ECA Luncheon
DESCRIPTION:Join us in the beautiful hills above Santa Rosa \nAt Glenn Smith & Rachel Dollar’s Home \nFriday\, August 29th\, 12 noon—2 pm \n1607 Baird Road\, Santa Rosa\, CA 95409 \n$55 for ECA member & $75 for non-member\nto register:       email mary@nceca.org \nClick HERE for flyer. \n 
URL:https://nceca.org/event/eca-lunch/
LOCATION:Glen Smith & Rachel Dollar’s Home\, 1607 Baird Road\, Santa Rosa\, CA\, 95409\, United States
CATEGORIES:Events
END:VEVENT
END:VCALENDAR