BEGIN:VCALENDAR
VERSION:2.0
PRODID:-//Northern California Engineering Contractors Association - ECPv6.15.17.1//NONSGML v1.0//EN
CALSCALE:GREGORIAN
METHOD:PUBLISH
X-ORIGINAL-URL:https://nceca.org
X-WR-CALDESC:Events for Northern California Engineering Contractors Association
REFRESH-INTERVAL;VALUE=DURATION:PT1H
X-Robots-Tag:noindex
X-PUBLISHED-TTL:PT1H
BEGIN:VTIMEZONE
TZID:America/Los_Angeles
BEGIN:DAYLIGHT
TZOFFSETFROM:-0800
TZOFFSETTO:-0700
TZNAME:PDT
DTSTART:20240310T100000
END:DAYLIGHT
BEGIN:STANDARD
TZOFFSETFROM:-0700
TZOFFSETTO:-0800
TZNAME:PST
DTSTART:20241103T090000
END:STANDARD
BEGIN:DAYLIGHT
TZOFFSETFROM:-0800
TZOFFSETTO:-0700
TZNAME:PDT
DTSTART:20250309T100000
END:DAYLIGHT
BEGIN:STANDARD
TZOFFSETFROM:-0700
TZOFFSETTO:-0800
TZNAME:PST
DTSTART:20251102T090000
END:STANDARD
BEGIN:DAYLIGHT
TZOFFSETFROM:-0800
TZOFFSETTO:-0700
TZNAME:PDT
DTSTART:20260308T100000
END:DAYLIGHT
BEGIN:STANDARD
TZOFFSETFROM:-0700
TZOFFSETTO:-0800
TZNAME:PST
DTSTART:20261101T090000
END:STANDARD
END:VTIMEZONE
BEGIN:VEVENT
DTSTART;TZID=America/Los_Angeles:20251029T150000
DTEND;TZID=America/Los_Angeles:20251029T170000
DTSTAMP:20260425T091932
CREATED:20251016T165649Z
LAST-MODIFIED:20251024T214742Z
UID:7141-1761750000-1761757200@nceca.org
SUMMARY:ECA and Regional Water Control Board Workshop
DESCRIPTION:There has been increased uncertainty and inconsistency in SWPPP practices amongst field personnel and project teams.  Uncertainties and inconsistent compliance oversight costs public and private entities time and dollars. \nWith that in mind\, the Northern California Engineering Contractors Association has asked\, and received confirmation\, that Walt Dragaloski will be present to clarify changes to the General Construction Permit process for 2025 that some folks either are having trouble adhering to\, or they may not be fully aware of some of the changes that may be contributing to the uncertainties.  Our hope is to have a robust workshop with all of you present as well as our contractors\, engineers\, and consultants that build and oversee these projects. \nemail mary@nceca.org to RSVP \nClick HERE for the flyer
URL:https://nceca.org/event/eca-and-regional-water-control-board-workshop/
LOCATION:North Coast Builders Exchange\, 1030 Apollo Way\, Santa Rosa\, CA\, 95407\, United States
CATEGORIES:Events
END:VEVENT
END:VCALENDAR