BEGIN:VCALENDAR
VERSION:2.0
PRODID:-//Northern California Engineering Contractors Association - ECPv6.15.17.1//NONSGML v1.0//EN
CALSCALE:GREGORIAN
METHOD:PUBLISH
X-ORIGINAL-URL:https://nceca.org
X-WR-CALDESC:Events for Northern California Engineering Contractors Association
REFRESH-INTERVAL;VALUE=DURATION:PT1H
X-Robots-Tag:noindex
X-PUBLISHED-TTL:PT1H
BEGIN:VTIMEZONE
TZID:America/Los_Angeles
BEGIN:DAYLIGHT
TZOFFSETFROM:-0800
TZOFFSETTO:-0700
TZNAME:PDT
DTSTART:20240310T100000
END:DAYLIGHT
BEGIN:STANDARD
TZOFFSETFROM:-0700
TZOFFSETTO:-0800
TZNAME:PST
DTSTART:20241103T090000
END:STANDARD
BEGIN:DAYLIGHT
TZOFFSETFROM:-0800
TZOFFSETTO:-0700
TZNAME:PDT
DTSTART:20250309T100000
END:DAYLIGHT
BEGIN:STANDARD
TZOFFSETFROM:-0700
TZOFFSETTO:-0800
TZNAME:PST
DTSTART:20251102T090000
END:STANDARD
BEGIN:DAYLIGHT
TZOFFSETFROM:-0800
TZOFFSETTO:-0700
TZNAME:PDT
DTSTART:20260308T100000
END:DAYLIGHT
BEGIN:STANDARD
TZOFFSETFROM:-0700
TZOFFSETTO:-0800
TZNAME:PST
DTSTART:20261101T090000
END:STANDARD
END:VTIMEZONE
BEGIN:VEVENT
DTSTART;TZID=America/Los_Angeles:20251101T173000
DTEND;TZID=America/Los_Angeles:20251101T223000
DTSTAMP:20260425T074916
CREATED:20241203T061032Z
LAST-MODIFIED:20251015T194103Z
UID:6459-1762018200-1762036200@nceca.org
SUMMARY:ECA Wine & Dozers Auction
DESCRIPTION:Reservation flyer Click HERE \nclick HERE for menu selection \nClick HERE to Sponsor! \nClick HERE for Donations. \nThank you to our Sponsors! \nGhilotti Bros. Inc – Platinum Sponsor \nKadon Trucking – Platinum Sponsor \nPeterson CAT—Platinum Sponsor \nArgonaut Constructors – Bar Sponsor \nRisk Strategies Insurance—Bar Sponsor \nTeam Ghilotti – Bar Sponsor \nAaction Rents – Champagne Sponsor \nHerc Rentals Trench Safety—Table Wine \nRitchie Bros – Auctioneers! \nBrelje & Race Consulting Engineers—Gold Sponsor \nCanyon Rock Company—Champagne Sponsor \nEngelke Construction – Gold Sponsor \nCresco Equipment Rentals—Port & Cigar Bar Sponsor \nMike Brown Electric—Gold Sponsor \nRCX Inc. – Port & Cigar Bar Sponsor \nStevenson Supply & Tractor Company – Port & Cigar Bar Sponsor \nBoDean a CRH Company—Live Auction \nGhilotti Bros Inc.\, – Live Auction \nGhilotti Construction – Live Auction \nGranite Construction – Live Auction \nMill Creek Safety – Live Auction \nJim Persons\, Safety Pride – Live Auction \nPACE Supply—Live Auction \nSerres Corporation\, Wing & Barrel Ranch—Live Auction \nSound Ideas – Live Auction \nWolff Contracting – Live Auction \nExchange Bank – Bronze Sponsor \nRiver City Bank—Bronze Sponsor
URL:https://nceca.org/event/eca-wine-dozers-auction-2/
LOCATION:Graton Resort & Casino\, 288 Golf Course Drive West\, Rohnert Park\, CA\, 94928\, United States
CATEGORIES:Events
END:VEVENT
END:VCALENDAR