BEGIN:VCALENDAR
VERSION:2.0
PRODID:-//Northern California Engineering Contractors Association - ECPv6.15.17.1//NONSGML v1.0//EN
CALSCALE:GREGORIAN
METHOD:PUBLISH
X-WR-CALNAME:Northern California Engineering Contractors Association
X-ORIGINAL-URL:https://nceca.org
X-WR-CALDESC:Events for Northern California Engineering Contractors Association
REFRESH-INTERVAL;VALUE=DURATION:PT1H
X-Robots-Tag:noindex
X-PUBLISHED-TTL:PT1H
BEGIN:VTIMEZONE
TZID:America/Los_Angeles
BEGIN:DAYLIGHT
TZOFFSETFROM:-0800
TZOFFSETTO:-0700
TZNAME:PDT
DTSTART:20240310T100000
END:DAYLIGHT
BEGIN:STANDARD
TZOFFSETFROM:-0700
TZOFFSETTO:-0800
TZNAME:PST
DTSTART:20241103T090000
END:STANDARD
BEGIN:DAYLIGHT
TZOFFSETFROM:-0800
TZOFFSETTO:-0700
TZNAME:PDT
DTSTART:20250309T100000
END:DAYLIGHT
BEGIN:STANDARD
TZOFFSETFROM:-0700
TZOFFSETTO:-0800
TZNAME:PST
DTSTART:20251102T090000
END:STANDARD
BEGIN:DAYLIGHT
TZOFFSETFROM:-0800
TZOFFSETTO:-0700
TZNAME:PDT
DTSTART:20260308T100000
END:DAYLIGHT
BEGIN:STANDARD
TZOFFSETFROM:-0700
TZOFFSETTO:-0800
TZNAME:PST
DTSTART:20261101T090000
END:STANDARD
END:VTIMEZONE
BEGIN:VEVENT
DTSTART;TZID=America/Los_Angeles:20251118T120000
DTEND;TZID=America/Los_Angeles:20251118T140000
DTSTAMP:20260425T080401
CREATED:20251103T212321Z
LAST-MODIFIED:20251111T215808Z
UID:7172-1763467200-1763474400@nceca.org
SUMMARY:Upcoming Capitol Improvement Projects
DESCRIPTION:Upcoming projects in the following areas:  \nConty of Sonoma\, City of Santa Rosa\, Napa County\, Sonoma County Transportation Authority \nClick HERE for flyer. \n 
URL:https://nceca.org/event/upcoming-capitol-improvement-projects/
LOCATION:Sally Tomatoes\, 1100 Valley House Drive\, Rohnert Park\, CA\, 94928\, United States
CATEGORIES:Events
END:VEVENT
END:VCALENDAR