BEGIN:VCALENDAR
VERSION:2.0
PRODID:-//Northern California Engineering Contractors Association - ECPv6.15.17.1//NONSGML v1.0//EN
CALSCALE:GREGORIAN
METHOD:PUBLISH
X-WR-CALNAME:Northern California Engineering Contractors Association
X-ORIGINAL-URL:https://nceca.org
X-WR-CALDESC:Events for Northern California Engineering Contractors Association
REFRESH-INTERVAL;VALUE=DURATION:PT1H
X-Robots-Tag:noindex
X-PUBLISHED-TTL:PT1H
BEGIN:VTIMEZONE
TZID:America/Los_Angeles
BEGIN:DAYLIGHT
TZOFFSETFROM:-0800
TZOFFSETTO:-0700
TZNAME:PDT
DTSTART:20240310T100000
END:DAYLIGHT
BEGIN:STANDARD
TZOFFSETFROM:-0700
TZOFFSETTO:-0800
TZNAME:PST
DTSTART:20241103T090000
END:STANDARD
BEGIN:DAYLIGHT
TZOFFSETFROM:-0800
TZOFFSETTO:-0700
TZNAME:PDT
DTSTART:20250309T100000
END:DAYLIGHT
BEGIN:STANDARD
TZOFFSETFROM:-0700
TZOFFSETTO:-0800
TZNAME:PST
DTSTART:20251102T090000
END:STANDARD
BEGIN:DAYLIGHT
TZOFFSETFROM:-0800
TZOFFSETTO:-0700
TZNAME:PDT
DTSTART:20260308T100000
END:DAYLIGHT
BEGIN:STANDARD
TZOFFSETFROM:-0700
TZOFFSETTO:-0800
TZNAME:PST
DTSTART:20261101T090000
END:STANDARD
END:VTIMEZONE
BEGIN:VEVENT
DTSTART;TZID=America/Los_Angeles:20250423T103000
DTEND;TZID=America/Los_Angeles:20250423T140000
DTSTAMP:20260422T054014
CREATED:20241108T063523Z
LAST-MODIFIED:20250417T001833Z
UID:6404-1745404200-1745416800@nceca.org
SUMMARY:ECA Public Officials Night
DESCRIPTION:To Register click HERE! \nTo sponsor click HERE! \nThank you to our Sponsors! \nTeam Ghilotti – Premiere Sponsor \nBroderick General Engineering—Public Officials Sponsor \nCanyon Rock—Public Officials Sponsor \nGhilotti Construction – Public Officials Sponsor \nRoblar Quarry LLC—Video Sponsor \nAaction Rents—Raffle Sponsor \nBKF Engineers—Bridge Award Sponsor \nEngelke Construction—Raffle Sponsor \nGhilotti Bros Inc.\, – Raffle Sponsor \nHerc Rentals Trench Solutions – Raffle Sponsor \nPeterson CAT—Bridge Award Sponsor \nRCX\, Inc.—Bridge Award Sponsor \nRiver City Bank – Bronze Sponsor \nSound Ideas—Video \nBulk Exchange—Booth Sponsor \n 
URL:https://nceca.org/event/eca-public-officials-night/
LOCATION:The Backdrop\, 1455 Corporate Center Parkway\, Santa Rosa\, 95407\, United States
CATEGORIES:Events
END:VEVENT
BEGIN:VEVENT
DTSTART;TZID=America/Los_Angeles:20250416T060000
DTEND;TZID=America/Los_Angeles:20250416T080000
DTSTAMP:20260422T054014
CREATED:20250215T040320Z
LAST-MODIFIED:20250215T040353Z
UID:6628-1744783200-1744790400@nceca.org
SUMMARY:Confined Space
DESCRIPTION:This course covers proper procedures for making entry into Permit Required Confined Spaces. Participants are prepared to operate in the capacity of Entrant\, Attendant or Entry Supervisor during confined space operations. Participants are familiarized with CFR 1910.146 and how to properly employ the permit program. This course is a combination of classroom instruction and practical\napplication in actual permit spaces utilizing the appropriate Personal Protective Equipment\, meters and ventilation. This course is required by OSHA before an employee can enter a Permit Required Confined Space. Certification of completion is provided. \nClick HERE for flyer
URL:https://nceca.org/event/confined-space-2/
LOCATION:North Coast Builders Exchange\, 1030 Apollo Way\, Santa Rosa\, CA\, 95407\, United States
CATEGORIES:Classes
END:VEVENT
BEGIN:VEVENT
DTSTART;TZID=America/Los_Angeles:20250326T060000
DTEND;TZID=America/Los_Angeles:20250326T080000
DTSTAMP:20260422T054014
CREATED:20250215T040508Z
LAST-MODIFIED:20250215T040508Z
UID:6631-1742968800-1742976000@nceca.org
SUMMARY:CPR / First Aid
DESCRIPTION:Training includes bleeding control\, strokes\, seizures\, broken bones and other life-threatening emergencies. Adult/child/infant CPR & airway obstruction management covered.  This course is designed as both a course for first-timers and as a refresher. \nClick HERE for flyer
URL:https://nceca.org/event/cpr-first-aid/
LOCATION:North Coast Builders Exchange\, 1030 Apollo Way\, Santa Rosa\, CA\, 95407\, United States
CATEGORIES:Classes
END:VEVENT
BEGIN:VEVENT
DTSTART;TZID=America/Los_Angeles:20250318T050000
DTEND;TZID=America/Los_Angeles:20250318T073000
DTSTAMP:20260422T054014
CREATED:20250215T040124Z
LAST-MODIFIED:20250311T002836Z
UID:6624-1742274000-1742283000@nceca.org
SUMMARY:Confined Space
DESCRIPTION:This course covers proper procedures for making entry into Permit Required Confined Spaces. Participants are prepared to operate in the capacity of Entrant\, Attendant or Entry Supervisor during confined space operations. Participants are familiarized with CFR 1910.146 and how to properly employ the permit program. This course is a combination of classroom instruction and practical\napplication in actual permit spaces utilizing the appropriate Personal Protective Equipment\, meters and ventilation. This course is required by OSHA before an employee can enter a Permit Required Confined Space. Certification of completion is provided. \nClick HERE for flyer
URL:https://nceca.org/event/confined-space/
LOCATION:North Coast Builders Exchange\, 1030 Apollo Way\, Santa Rosa\, CA\, 95407\, United States
CATEGORIES:Classes
END:VEVENT
END:VCALENDAR